BEGIN:VCALENDAR
VERSION:2.0
PRODID:-//Ayuntamiento de Ricla - ECPv6.15.20//NONSGML v1.0//EN
CALSCALE:GREGORIAN
METHOD:PUBLISH
X-WR-CALNAME:Ayuntamiento de Ricla
X-ORIGINAL-URL:https://www.ricla.es
X-WR-CALDESC:Eventos para Ayuntamiento de Ricla
REFRESH-INTERVAL;VALUE=DURATION:PT1H
X-Robots-Tag:noindex
X-PUBLISHED-TTL:PT1H
BEGIN:VTIMEZONE
TZID:Europe/Madrid
BEGIN:DAYLIGHT
TZOFFSETFROM:+0100
TZOFFSETTO:+0200
TZNAME:CEST
DTSTART:20250330T010000
END:DAYLIGHT
BEGIN:STANDARD
TZOFFSETFROM:+0200
TZOFFSETTO:+0100
TZNAME:CET
DTSTART:20251026T010000
END:STANDARD
BEGIN:DAYLIGHT
TZOFFSETFROM:+0100
TZOFFSETTO:+0200
TZNAME:CEST
DTSTART:20260329T010000
END:DAYLIGHT
BEGIN:STANDARD
TZOFFSETFROM:+0200
TZOFFSETTO:+0100
TZNAME:CET
DTSTART:20261025T010000
END:STANDARD
BEGIN:DAYLIGHT
TZOFFSETFROM:+0100
TZOFFSETTO:+0200
TZNAME:CEST
DTSTART:20270328T010000
END:DAYLIGHT
BEGIN:STANDARD
TZOFFSETFROM:+0200
TZOFFSETTO:+0100
TZNAME:CET
DTSTART:20271031T010000
END:STANDARD
END:VTIMEZONE
BEGIN:VEVENT
DTSTART;TZID=Europe/Madrid:20260311T080000
DTEND;TZID=Europe/Madrid:20260311T130000
DTSTAMP:20260422T115354
CREATED:20260316T113710Z
LAST-MODIFIED:20260316T113710Z
UID:6071-1773216000-1773234000@www.ricla.es
SUMMARY:XV MARCHA SENDERISTA VALDEJALÓN EN RICLA
DESCRIPTION:¡Vuelve la XV Marcha Senderista Valdejalón – Memorial Santiago Casao!\nEl próximo 11 de abril LA MARCHA SERÁ EN RICLA para disfrutar de una jornada de naturaleza\, deporte y convivencia.\n Salida y llegada: “La Pista” (Ricla)\n Recorrido único: 13\,6 km\n Desnivel: 208 m\n Avituallamiento sólido y líquido\n Asistencia sanitaria y seguro incluidos\n Bolsa del participante + desayuno + aperitivo final\n Inscripciones en la web de la Comarca de Valdejalón\n(Plazas limitadas · Precio: 5 € · Fecha límite: 5 de abril)\nHabrá que inscribirse en la web de Comarca Valdejalon en el siguiente enlace.\nhttps://valdejalon.es/xv-marcha-senderista-valdejalon/
URL:https://www.ricla.es/evento/xv-marcha-senderista-valdejalon-en-ricla/
CATEGORIES:Deportes
END:VEVENT
END:VCALENDAR